BEGIN:VCALENDAR
VERSION:2.0
CALSCALE:GREGORIAN
PRODID:-//Diputació de Barcelona//DibaCMS//EN
BEGIN:VEVENT
UID:2594
DTSTAMP:20260422T081753
DTSTART:20171115T000000
DTEND:20171115T000000
SUMMARY:TALLER GRATUÏT &quot;EDUQUEM LES EMOCIONS EN FAMÍLIA&quot; - SESSIÓ 1
LOCATION:
METHOD:PUBLISH
X-WR-CALNAME:info.pont@elpont.cat
X-WR-TIMEZONE:Europe/Madrid
DESCRIPTION:Primera sessió per a progenitors.
URI:https://www.elpont.cat/actualitat/agenda/taller-gratut-andquoteduquem-les-emocions-en-familiaandquot-sessio-1.html
CLASS:PUBLIC
END:VEVENT
END:VCALENDAR
