BEGIN:VCALENDAR
VERSION:2.0
CALSCALE:GREGORIAN
PRODID:-//Diputació de Barcelona//DibaCMS//EN
BEGIN:VEVENT
UID:2595
DTSTAMP:20260422T081540
DTSTART:20171117T000000
DTEND:20171117T000000
SUMMARY:CAP DE SETMANA DE LA INFÀNCIA - DIBUIXA LA IMATGE DEL SEGON CAP DE SETMANA DE LA INFÀNCIA
LOCATION:
METHOD:PUBLISH
X-WR-CALNAME:info.pont@elpont.cat
X-WR-TIMEZONE:Europe/Madrid
DESCRIPTION:Concurs de dibuix, les 3 obres finalistes s'exposaran al facebook de l'Ajuntament i la més votada serà la imatge guanyadora. 
URI:https://www.elpont.cat/actualitat/agenda/cap-de-setmana-de-la-infancia-dibuixa-la-imatge-del-segon-cap-de-setmana-de-la-infancia.html
CLASS:PUBLIC
END:VEVENT
END:VCALENDAR
