BEGIN:VCALENDAR
VERSION:2.0
CALSCALE:GREGORIAN
PRODID:-//Diputació de Barcelona//DibaCMS//EN
BEGIN:VEVENT
UID:2596
DTSTAMP:20260422T075215
DTSTART:20171117T000000
DTEND:20171117T000000
SUMMARY:TALLER DE MANUALITATS
LOCATION:
METHOD:PUBLISH
X-WR-CALNAME:info.pont@elpont.cat
X-WR-TIMEZONE:Europe/Madrid
DESCRIPTION:Taller de manualitats amb material reciclat adreçat a joves i adults a càrrec d'El Taller del Bosc.
 
L'activitat s'emmarca dins la Setmana Contra la Prevenció de Residus
URI:https://www.elpont.cat/actualitat/agenda/taller-de-manualitats.html
CLASS:PUBLIC
END:VEVENT
END:VCALENDAR
