BEGIN:VCALENDAR
VERSION:2.0
CALSCALE:GREGORIAN
PRODID:-//Diputació de Barcelona//DibaCMS//EN
BEGIN:VEVENT
UID:2597
DTSTAMP:20260422T102357
DTSTART:20171118T000000
DTEND:20171118T000000
SUMMARY:CAP DE SETMANA DE LA INFÀNCIA - BENVINGUDA ALS NADONS NASCUTS AL 2017 I PRESENTACIÓ DEL CONSELL D'INFANTS DEL POBLE
LOCATION:
METHOD:PUBLISH
X-WR-CALNAME:info.pont@elpont.cat
X-WR-TIMEZONE:Europe/Madrid
DESCRIPTION:
URI:https://www.elpont.cat/actualitat/agenda/cap-de-setmana-de-la-infancia-benvinguda-als-nadons-nascuts-al-2017-i-presentacio-del-consell-dinfants-del-poble.html
CLASS:PUBLIC
END:VEVENT
END:VCALENDAR
