BEGIN:VCALENDAR
VERSION:2.0
CALSCALE:GREGORIAN
PRODID:-//Diputació de Barcelona//DibaCMS//EN
BEGIN:VEVENT
UID:2599
DTSTAMP:20260422T085407
DTSTART:20171118T000000
DTEND:20171118T000000
SUMMARY:CAP DE SETMANA DE LA INFÀNCIA - SOL AMB LLUNA
LOCATION:
METHOD:PUBLISH
X-WR-CALNAME:info.pont@elpont.cat
X-WR-TIMEZONE:Europe/Madrid
DESCRIPTION:Espectacle de contes per a públic familiar a càrrec d'Sgratta
URI:https://www.elpont.cat/actualitat/agenda/cap-de-setmana-de-la-infancia-sol-amb-lluna.html
CLASS:PUBLIC
END:VEVENT
END:VCALENDAR
