BEGIN:VCALENDAR
VERSION:2.0
CALSCALE:GREGORIAN
PRODID:-//Diputació de Barcelona//DibaCMS//EN
BEGIN:VEVENT
UID:2601
DTSTAMP:20260422T133653
DTSTART:20171119T000000
DTEND:20171119T000000
SUMMARY:PRESENTACIÓ PLANTILLES CF VILOMARA TEMPORADA 2017-2018
LOCATION:
METHOD:PUBLISH
X-WR-CALNAME:info.pont@elpont.cat
X-WR-TIMEZONE:Europe/Madrid
DESCRIPTION:
URI:https://www.elpont.cat/actualitat/agenda/presentacio-plantilles-cf-vilomara-temporada-2017-2018.html
CLASS:PUBLIC
END:VEVENT
END:VCALENDAR
