BEGIN:VCALENDAR
VERSION:2.0
CALSCALE:GREGORIAN
PRODID:-//Diputació de Barcelona//DibaCMS//EN
BEGIN:VEVENT
UID:2602
DTSTAMP:20260422T114138
DTSTART:20171119T000000
DTEND:20171119T000000
SUMMARY:CAP DE SETMANA DE LA INFÀNCIA - LA FESTA DELS MESTUMACATS!
LOCATION:
METHOD:PUBLISH
X-WR-CALNAME:info.pont@elpont.cat
X-WR-TIMEZONE:Europe/Madrid
DESCRIPTION:Imaginació, danses d'animació, música .... per gaudir de la festa.
URI:https://www.elpont.cat/actualitat/agenda/cap-de-setmana-de-la-infancia-la-festa-dels-mestumacats.html
CLASS:PUBLIC
END:VEVENT
END:VCALENDAR
