BEGIN:VCALENDAR
VERSION:2.0
CALSCALE:GREGORIAN
PRODID:-//Diputació de Barcelona//DibaCMS//EN
BEGIN:VEVENT
UID:2603
DTSTAMP:20260422T134622
DTSTART:20171119T000000
DTEND:20171119T000000
SUMMARY:CAP DE SETMANA DE LA INFÀNCIA - PRIMERA DUATLÓ FAMILIAR
LOCATION:
METHOD:PUBLISH
X-WR-CALNAME:info.pont@elpont.cat
X-WR-TIMEZONE:Europe/Madrid
DESCRIPTION:Esdeveniment esportiu i  familiar que combina la vessant esportiva i festiva.
 
Participació d'infants de 0 fins a 14 anys acompanyats de qui més  s'estimen (pares, mares, tiets, tietes, avis, avies....)
 
La Duatló consta de 5 voltes al circuit (llargada en funció de les edats dels infants):
1a volta: corre infants
2a volta: corre adults
3a volta: bici infants
4a volta: bici adults
5a volta: corre infants+adults 
URI:https://www.elpont.cat/actualitat/agenda/cap-de-setmana-de-la-infancia-primera-duatlo-familiar.html
CLASS:PUBLIC
END:VEVENT
END:VCALENDAR
