BEGIN:VCALENDAR
VERSION:2.0
CALSCALE:GREGORIAN
PRODID:-//Diputació de Barcelona//DibaCMS//EN
BEGIN:VEVENT
UID:2604
DTSTAMP:20260422T123622
DTSTART:20171120T000000
DTEND:20171120T000000
SUMMARY:CAP DE SETMANA DE LA INFÀNCIA - JUGA AMB ELS DRETS DELS INFANTS
LOCATION:
METHOD:PUBLISH
X-WR-CALNAME:info.pont@elpont.cat
X-WR-TIMEZONE:Europe/Madrid
DESCRIPTION:Activitat familiar (els infants han d'anar acompanyats d'una persona adulta).
URI:https://www.elpont.cat/actualitat/agenda/cap-de-setmana-de-la-infancia-juga-amb-els-drets-dels-infants.html
CLASS:PUBLIC
END:VEVENT
END:VCALENDAR
