BEGIN:VCALENDAR
VERSION:2.0
CALSCALE:GREGORIAN
PRODID:-//Diputació de Barcelona//DibaCMS//EN
BEGIN:VEVENT
UID:2605
DTSTAMP:20260422T104316
DTSTART:20171121T000000
DTEND:20171121T000000
SUMMARY:PRESENTACIÓ DE LES RUTES SALUDABLES AL PONT DE VILOMARA I ROCAFORT
LOCATION:
METHOD:PUBLISH
X-WR-CALNAME:info.pont@elpont.cat
X-WR-TIMEZONE:Europe/Madrid
DESCRIPTION:L'Ajuntament del Pont de Vilomara i Rocafort i l'Intitut Català de la Salut han elaborat i senyalitzat una sèrie de rutes al voltant del poble per a promoure i fomentar els hàbits saludables entre la població (gent gran, famílies, joves, ..). Fina Olmo, infermera del CAP municipal, ens farà una presentació de les diferents rutes, els itineraris i les avantatges que totes elles representen per a la nostra salut.
*Hi haurà un petit obsequi per a tots els assistents!
URI:https://www.elpont.cat/actualitat/agenda/presentacio-de-les-rutes-saludables-al-pont-de-vilomara-i-rocafort.html
CLASS:PUBLIC
END:VEVENT
END:VCALENDAR
