BEGIN:VCALENDAR
VERSION:2.0
CALSCALE:GREGORIAN
PRODID:-//Diputació de Barcelona//DibaCMS//EN
BEGIN:VEVENT
UID:2606
DTSTAMP:20260422T121448
DTSTART:20171122T000000
DTEND:20171122T000000
SUMMARY:TALLER GRATUÏT &quot;EDUQUEM LES EMOCIONS EN FAMÍLIA&quot; - SESSIÓ 2
LOCATION:
METHOD:PUBLISH
X-WR-CALNAME:info.pont@elpont.cat
X-WR-TIMEZONE:Europe/Madrid
DESCRIPTION:Segona sessió per a progenitors.
URI:https://www.elpont.cat/actualitat/agenda/taller-gratut-andquoteduquem-les-emocions-en-familiaandquot-sessio-2.html
CLASS:PUBLIC
END:VEVENT
END:VCALENDAR
