BEGIN:VCALENDAR
VERSION:2.0
CALSCALE:GREGORIAN
PRODID:-//Diputació de Barcelona//DibaCMS//EN
BEGIN:VEVENT
UID:2607
DTSTAMP:20260422T131618
DTSTART:20171123T000000
DTEND:20171123T000000
SUMMARY:PROGRAMA GENT GRAN ACTIVA: BALL AMB OSTRES OSTRES
LOCATION:
METHOD:PUBLISH
X-WR-CALNAME:info.pont@elpont.cat
X-WR-TIMEZONE:Europe/Madrid
DESCRIPTION:
URI:https://www.elpont.cat/actualitat/agenda/2607-programa-gent-gran-activa-ball-amb-ostres-ostres.html
CLASS:PUBLIC
END:VEVENT
END:VCALENDAR
