BEGIN:VCALENDAR
VERSION:2.0
CALSCALE:GREGORIAN
PRODID:-//Diputació de Barcelona//DibaCMS//EN
BEGIN:VEVENT
UID:2610
DTSTAMP:20260422T114826
DTSTART:20171125T000000
DTEND:20171125T000000
SUMMARY:LABORATORI DE LECTURA
LOCATION:
METHOD:PUBLISH
X-WR-CALNAME:info.pont@elpont.cat
X-WR-TIMEZONE:Europe/Madrid
DESCRIPTION:Activitat familiar per a descobrir el món dels contes de Leo Lionni a través d'una de les seves històries més conegudes, "Frederick".
URI:https://www.elpont.cat/actualitat/agenda/laboratori-de-lectura.html
CLASS:PUBLIC
END:VEVENT
END:VCALENDAR
