BEGIN:VCALENDAR
VERSION:2.0
CALSCALE:GREGORIAN
PRODID:-//Diputació de Barcelona//DibaCMS//EN
BEGIN:VEVENT
UID:2611
DTSTAMP:20260422T123720
DTSTART:20171127T000000
DTEND:20171127T000000
SUMMARY:DIA INTERNACIONAL PER L'ELIMINACIÓ DE LA VIOLÈNCIA CONTRA LES DONES - INTRODUCCIÓ AL MINDFULLNESS &quot;EL CAMÍ CAP A LA PAU INTERIOR&quot;
LOCATION:
METHOD:PUBLISH
X-WR-CALNAME:info.pont@elpont.cat
X-WR-TIMEZONE:Europe/Madrid
DESCRIPTION:Xerrada a càrrec de la psicòloga Norma Orozco.
 
Taller d'introducció al mindfulness on s'oferiran eines pràctiques per a entrenar la ment i aconseguir mantenir l'atenció en el present, afrontar els nostres problemes i començar a introduir canvis positius en la nostra vida que ens permetin experimentar una felicitat profunda i permanent!
 
Aquesta activitat s'emmarca dins les activitats del Dia contra la Violència de Gènere!
URI:https://www.elpont.cat/actualitat/agenda/dia-internacional-per-leliminacio-de-la-violencia-contra-les-dones-introduccio-al-mindfullness-andquotel-cami-cap-a-la-pau-interiorandquot.html
CLASS:PUBLIC
END:VEVENT
END:VCALENDAR
