BEGIN:VCALENDAR
VERSION:2.0
CALSCALE:GREGORIAN
PRODID:-//Diputació de Barcelona//DibaCMS//EN
BEGIN:VEVENT
UID:2612
DTSTAMP:20260422T090642
DTSTART:20171128T000000
DTEND:20171128T000000
SUMMARY:DIA INTERNACIONAL PER L'ELIMINACIÓ DE LA VIOLÈNCIA CONTRA LES DONES - CURS D'AUTODEFENSA PER A DONES (SEGONA SESSIÓ)
LOCATION:
METHOD:PUBLISH
X-WR-CALNAME:info.pont@elpont.cat
X-WR-TIMEZONE:Europe/Madrid
DESCRIPTION:
URI:https://www.elpont.cat/actualitat/agenda/dia-internacional-per-leliminacio-de-la-violencia-contra-les-dones-curs-dautodefensa-per-a-dones-segona-sessio.html
CLASS:PUBLIC
END:VEVENT
END:VCALENDAR
