BEGIN:VCALENDAR
VERSION:2.0
CALSCALE:GREGORIAN
PRODID:-//Diputació de Barcelona//DibaCMS//EN
BEGIN:VEVENT
UID:2614
DTSTAMP:20260422T092148
DTSTART:20171129T000000
DTEND:20171129T000000
SUMMARY:DIA INTERNACIONAL PER L'ELIMINACIÓ DE LA VIOLÈNCIA CONTRA LES DONES - TERTÚLIA LITERÀRIA &quot;LA NENA DE LA CASA DE LA BAUMA&quot;
LOCATION:
METHOD:PUBLISH
X-WR-CALNAME:info.pont@elpont.cat
X-WR-TIMEZONE:Europe/Madrid
DESCRIPTION:Tertúlia literària sobre la novel·la "La nena de la casa de la bauma" amb la presència de la seva autora, Marienka Bellostas.
 
Aquesta sessió s'enmarca dins les activitats del Dia Contra la Violència de Gènere, tema principal de la novel·la!
URI:https://www.elpont.cat/actualitat/agenda/dia-internacional-per-leliminacio-de-la-violencia-contra-les-dones-tertulia-literaria-andquotla-nena-de-la-casa-de-la-baumaandquot.html
CLASS:PUBLIC
END:VEVENT
END:VCALENDAR
