BEGIN:VCALENDAR
VERSION:2.0
CALSCALE:GREGORIAN
PRODID:-//Diputació de Barcelona//DibaCMS//EN
BEGIN:VEVENT
UID:2615
DTSTAMP:20260422T111025
DTSTART:20171129T000000
DTEND:20171129T000000
SUMMARY:DIA INTERNACIONAL PER L'ELIMINACIÓ DE LA VIOLÈNCIA CONTRA LES DONES - ELIMINEM LA VIOLÈNCIA DE LA MÚSICA I DE LES CANÇONS
LOCATION:
METHOD:PUBLISH
X-WR-CALNAME:info.pont@elpont.cat
X-WR-TIMEZONE:Europe/Madrid
DESCRIPTION:Taller adreçat a infants de quart a sisè de primària.
URI:https://www.elpont.cat/actualitat/agenda/dia-internacional-per-leliminacio-de-la-violencia-contra-les-dones-eliminem-la-violencia-de-la-musica-i-de-les-cancons.html
CLASS:PUBLIC
END:VEVENT
END:VCALENDAR
