BEGIN:VCALENDAR
VERSION:2.0
CALSCALE:GREGORIAN
PRODID:-//Diputació de Barcelona//DibaCMS//EN
BEGIN:VEVENT
UID:2616
DTSTAMP:20260422T151213
DTSTART:20171201T000000
DTEND:20171202T000000
SUMMARY:GRAN RECAPTE D'ALIMENTS PER AL BANC D'ALIMENTS MUNICIPAL
LOCATION:
METHOD:PUBLISH
X-WR-CALNAME:info.pont@elpont.cat
X-WR-TIMEZONE:Europe/Madrid
DESCRIPTION:
URI:https://www.elpont.cat/actualitat/agenda/gran-recapte-daliments-per-al-banc-daliments-municipal.html
CLASS:PUBLIC
END:VEVENT
END:VCALENDAR
