BEGIN:VCALENDAR
VERSION:2.0
CALSCALE:GREGORIAN
PRODID:-//Diputació de Barcelona//DibaCMS//EN
BEGIN:VEVENT
UID:2619
DTSTAMP:20260422T192721
DTSTART:20171213T000000
DTEND:20171213T000000
SUMMARY:FESTES NADALENQUES 2017 - TALLER DE TORRONS PER A ADULTS
LOCATION:
METHOD:PUBLISH
X-WR-CALNAME:info.pont@elpont.cat
X-WR-TIMEZONE:Europe/Madrid
DESCRIPTION:A càrrec de Xesc Bartés
URI:https://www.elpont.cat/actualitat/agenda/festes-nadalenques-2017-taller-de-torrons-per-a-adults.html
CLASS:PUBLIC
END:VEVENT
END:VCALENDAR
