BEGIN:VCALENDAR
VERSION:2.0
CALSCALE:GREGORIAN
PRODID:-//Diputació de Barcelona//DibaCMS//EN
BEGIN:VEVENT
UID:2621
DTSTAMP:20260422T124644
DTSTART:20171215T000000
DTEND:20180115T000000
SUMMARY:MATRÍCULA GRATUÏTA AL GIMNÀS DE LA SALA POLIVALENT
LOCATION:
METHOD:PUBLISH
X-WR-CALNAME:info.pont@elpont.cat
X-WR-TIMEZONE:Europe/Madrid
DESCRIPTION:
URI:https://www.elpont.cat/actualitat/agenda/2621-matricula-gratuta-al-gimnas-de-la-sala-polivalent.html
CLASS:PUBLIC
END:VEVENT
END:VCALENDAR
