BEGIN:VCALENDAR
VERSION:2.0
CALSCALE:GREGORIAN
PRODID:-//Diputació de Barcelona//DibaCMS//EN
BEGIN:VEVENT
UID:2623
DTSTAMP:20260422T104651
DTSTART:20171216T000000
DTEND:20171216T000000
SUMMARY:FESTES NADALENQUES 2017 - TALLER D'APERITIUS NADALENCS PER A INFANTS
LOCATION:
METHOD:PUBLISH
X-WR-CALNAME:info.pont@elpont.cat
X-WR-TIMEZONE:Europe/Madrid
DESCRIPTION:A partir de 5 anys
URI:https://www.elpont.cat/actualitat/agenda/festes-nadalenques-2017-taller-daperitius-nadalencs-per-a-infants.html
CLASS:PUBLIC
END:VEVENT
END:VCALENDAR
