BEGIN:VCALENDAR
VERSION:2.0
CALSCALE:GREGORIAN
PRODID:-//Diputació de Barcelona//DibaCMS//EN
BEGIN:VEVENT
UID:2625
DTSTAMP:20260422T134428
DTSTART:20171217T000000
DTEND:20171217T000000
SUMMARY:FESTES NADALENQUES 2017 - IV ZAMBOMBA FLAMENCA
LOCATION:
METHOD:PUBLISH
X-WR-CALNAME:info.pont@elpont.cat
X-WR-TIMEZONE:Europe/Madrid
DESCRIPTION:
URI:https://www.elpont.cat/actualitat/agenda/festes-nadalenques-2017-iv-zambomba-flamenca.html
CLASS:PUBLIC
END:VEVENT
END:VCALENDAR
