BEGIN:VCALENDAR
VERSION:2.0
CALSCALE:GREGORIAN
PRODID:-//Diputació de Barcelona//DibaCMS//EN
BEGIN:VEVENT
UID:2627
DTSTAMP:20260422T123821
DTSTART:20171220T000000
DTEND:20171220T000000
SUMMARY:FESTES NADALENQUES 2017 - TALLER DE MANUALITATS NADALENQUES PER A ADULTS
LOCATION:
METHOD:PUBLISH
X-WR-CALNAME:info.pont@elpont.cat
X-WR-TIMEZONE:Europe/Madrid
DESCRIPTION:A càrrec de Mercè Bustos.
URI:https://www.elpont.cat/actualitat/agenda/festes-nadalenques-2017-taller-de-manualitats-nadalenques-per-a-adults.html
CLASS:PUBLIC
END:VEVENT
END:VCALENDAR
