BEGIN:VCALENDAR
VERSION:2.0
CALSCALE:GREGORIAN
PRODID:-//Diputació de Barcelona//DibaCMS//EN
BEGIN:VEVENT
UID:2630
DTSTAMP:20260422T180253
DTSTART:20171224T000000
DTEND:20171224T000000
SUMMARY:FESTES NADALENQUES 2017 - CERCAVILA AMB EL PARE NADAL
LOCATION:
METHOD:PUBLISH
X-WR-CALNAME:info.pont@elpont.cat
X-WR-TIMEZONE:Europe/Madrid
DESCRIPTION:Sortida des de la Plaça de l'Ajuntament.
 
Seguidament vine al Casal de la Infància a fer-te una fotografia amb el Pare Noel.
URI:https://www.elpont.cat/actualitat/agenda/festes-nadalenques-2017-cercavila-amb-el-pare-nadal.html
CLASS:PUBLIC
END:VEVENT
END:VCALENDAR
