BEGIN:VCALENDAR
VERSION:2.0
CALSCALE:GREGORIAN
PRODID:-//Diputació de Barcelona//DibaCMS//EN
BEGIN:VEVENT
UID:2633
DTSTAMP:20260422T190139
DTSTART:20171224T000000
DTEND:20171224T000000
SUMMARY:FESTES NADALENQUES 2017 - BALL DE NADAL AMB DJ
LOCATION:
METHOD:PUBLISH
X-WR-CALNAME:info.pont@elpont.cat
X-WR-TIMEZONE:Europe/Madrid
DESCRIPTION:Amb la presència de Delay Deejay.
URI:https://www.elpont.cat/actualitat/agenda/festes-nadalenques-2017-ball-de-nadal-amb-dj.html
CLASS:PUBLIC
END:VEVENT
END:VCALENDAR
