BEGIN:VCALENDAR
VERSION:2.0
CALSCALE:GREGORIAN
PRODID:-//Diputació de Barcelona//DibaCMS//EN
BEGIN:VEVENT
UID:2639
DTSTAMP:20260422T115816
DTSTART:20171231T000000
DTEND:20171231T000000
SUMMARY:FESTES NADALENQUES 2017 - BALL DE CAP D'ANY AMB DJ
LOCATION:
METHOD:PUBLISH
X-WR-CALNAME:info.pont@elpont.cat
X-WR-TIMEZONE:Europe/Madrid
DESCRIPTION:
URI:https://www.elpont.cat/actualitat/agenda/festes-nadalenques-2017-ball-de-cap-dany-amb-dj.html
CLASS:PUBLIC
END:VEVENT
END:VCALENDAR
