BEGIN:VCALENDAR
VERSION:2.0
CALSCALE:GREGORIAN
PRODID:-//Diputació de Barcelona//DibaCMS//EN
BEGIN:VEVENT
UID:2640
DTSTAMP:20260422T212404
DTSTART:20180103T000000
DTEND:20180103T000000
SUMMARY:FESTES NADALENQUES 2017 - CINEMA INFANTIL NADALENC
LOCATION:
METHOD:PUBLISH
X-WR-CALNAME:info.pont@elpont.cat
X-WR-TIMEZONE:Europe/Madrid
DESCRIPTION:Amb la projecció de la pel·lícula "El Origen de los Guardianes"
URI:https://www.elpont.cat/actualitat/agenda/festes-nadalenques-2017-cinema-infantil-nadalenc.html
CLASS:PUBLIC
END:VEVENT
END:VCALENDAR
