BEGIN:VCALENDAR
VERSION:2.0
CALSCALE:GREGORIAN
PRODID:-//Diputació de Barcelona//DibaCMS//EN
BEGIN:VEVENT
UID:2642
DTSTAMP:20260423T031836
DTSTART:20180105T000000
DTEND:20180105T000000
SUMMARY:FESTES NADALENQUES 2017 - ARRIBADA DELS REIS MAGS D'ORIENT
LOCATION:
METHOD:PUBLISH
X-WR-CALNAME:info.pont@elpont.cat
X-WR-TIMEZONE:Europe/Madrid
DESCRIPTION:Lliurament de la clau del poble per l'Alcalde al balcó de l'Ajuntament i cercavila pels carrers del poble sortint des de la Plaça de l'Ajuntament.
URI:https://www.elpont.cat/actualitat/agenda/festes-nadalenques-2017-arribada-dels-reis-mags-dorient.html
CLASS:PUBLIC
END:VEVENT
END:VCALENDAR
