BEGIN:VCALENDAR
VERSION:2.0
CALSCALE:GREGORIAN
PRODID:-//Diputació de Barcelona//DibaCMS//EN
BEGIN:VEVENT
UID:2643
DTSTAMP:20260422T120604
DTSTART:20180105T000000
DTEND:20180105T000000
SUMMARY:FESTES NADALENQUES 2017 - RECOLLIDA DE REGALS PER ALS REIS MAGS D'ORIENT
LOCATION:
METHOD:PUBLISH
X-WR-CALNAME:info.pont@elpont.cat
X-WR-TIMEZONE:Europe/Madrid
DESCRIPTION:
URI:https://www.elpont.cat/actualitat/agenda/festes-nadalenques-2017-recollida-de-regals-per-als-reis-mags-dorient.html
CLASS:PUBLIC
END:VEVENT
END:VCALENDAR
