BEGIN:VCALENDAR
VERSION:2.0
CALSCALE:GREGORIAN
PRODID:-//Diputació de Barcelona//DibaCMS//EN
BEGIN:VEVENT
UID:2645
DTSTAMP:20260422T133805
DTSTART:20180109T000000
DTEND:20180131T000000
SUMMARY:EXPOSICIÓ FOTOGRÀFICA &quot;LA VINYA AL BAGES&quot;
LOCATION:
METHOD:PUBLISH
X-WR-CALNAME:info.pont@elpont.cat
X-WR-TIMEZONE:Europe/Madrid
DESCRIPTION:
URI:https://www.elpont.cat/actualitat/agenda/exposicio-fotografica-andquotla-vinya-al-bagesandquot.html
CLASS:PUBLIC
END:VEVENT
END:VCALENDAR
