BEGIN:VCALENDAR
VERSION:2.0
CALSCALE:GREGORIAN
PRODID:-//Diputació de Barcelona//DibaCMS//EN
BEGIN:VEVENT
UID:2646
DTSTAMP:20260422T163839
DTSTART:20180109T000000
DTEND:20180201T000000
SUMMARY:EXPOSICIÓ FOTOGRÀFICA &quot;TRENCANT EL SILENCI ...&quot;
LOCATION:
METHOD:PUBLISH
X-WR-CALNAME:info.pont@elpont.cat
X-WR-TIMEZONE:Europe/Madrid
DESCRIPTION:Les dones de LILIUM (associació de suport a víctimes de violència de gènere) han posat veu a la seva història eb col·laboració amb les dones de FOTO ART MANRESA que ho ha plasmat en imatges: des de la cruesa d'una realitat que roman amagada fins a l'esperança que es pot trencar el silenci en un crit artístic per intentar conscienciar la societat.
URI:https://www.elpont.cat/actualitat/agenda/exposicio-fotografica-andquottrencant-el-silenci-andquot.html
CLASS:PUBLIC
END:VEVENT
END:VCALENDAR
