BEGIN:VCALENDAR
VERSION:2.0
CALSCALE:GREGORIAN
PRODID:-//Diputació de Barcelona//DibaCMS//EN
BEGIN:VEVENT
UID:2648
DTSTAMP:20260423T011803
DTSTART:20180127T000000
DTEND:20180127T000000
SUMMARY:L'HORA DEL CONTE &quot;EL VIATGE DEL VI&quot;
LOCATION:
METHOD:PUBLISH
X-WR-CALNAME:info.pont@elpont.cat
X-WR-TIMEZONE:Europe/Madrid
DESCRIPTION:Follets entremaliats, noies poderoses, bruixots malignes i fadetes amb ales ens acompanyaran en un viatge màgic a la recerca del millor vi.
 
Una nova edició de l'Hora del Conte a càrrec d'Elisabeth Ulibarri que podrem gaudir, com sempre, a la Biblioteca.
URI:https://www.elpont.cat/actualitat/agenda/lhora-del-conte-andquotel-viatge-del-viandquot.html
CLASS:PUBLIC
END:VEVENT
END:VCALENDAR
