BEGIN:VCALENDAR
VERSION:2.0
CALSCALE:GREGORIAN
PRODID:-//Diputació de Barcelona//DibaCMS//EN
BEGIN:VEVENT
UID:2649
DTSTAMP:20260423T040952
DTSTART:20180131T000000
DTEND:20180131T000000
SUMMARY:TERTÚLIA LITERÀRIA &quot;NOVEMBRE&quot;
LOCATION:
METHOD:PUBLISH
X-WR-CALNAME:info.pont@elpont.cat
X-WR-TIMEZONE:Europe/Madrid
DESCRIPTION:Tertúlia literària sobre la novel·la "Novembre" amb la presència de la seva autora Núria Valentí. 
URI:https://www.elpont.cat/actualitat/agenda/tertulia-literaria-andquotnovembreandquot.html
CLASS:PUBLIC
END:VEVENT
END:VCALENDAR
