BEGIN:VCALENDAR
VERSION:2.0
CALSCALE:GREGORIAN
PRODID:-//Diputació de Barcelona//DibaCMS//EN
BEGIN:VEVENT
UID:2650
DTSTAMP:20260423T015642
DTSTART:20180201T000000
DTEND:20180201T000000
SUMMARY:PROGRAMA GENT GRAN ACTIVA &quot;BALL AMB JORDI&quot;
LOCATION:
METHOD:PUBLISH
X-WR-CALNAME:info.pont@elpont.cat
X-WR-TIMEZONE:Europe/Madrid
DESCRIPTION:
URI:https://www.elpont.cat/actualitat/agenda/programa-gent-gran-activa-andquotball-amb-jordiandquot.html
CLASS:PUBLIC
END:VEVENT
END:VCALENDAR
