BEGIN:VCALENDAR
VERSION:2.0
CALSCALE:GREGORIAN
PRODID:-//Diputació de Barcelona//DibaCMS//EN
BEGIN:VEVENT
UID:2651
DTSTAMP:20260423T011303
DTSTART:20180209T000000
DTEND:20180209T000000
SUMMARY:CARNESTOLTES 2018 - ARRIBADA DE LA REINA DEL CARNESTOLTES
LOCATION:
METHOD:PUBLISH
X-WR-CALNAME:info.pont@elpont.cat
X-WR-TIMEZONE:Europe/Madrid
DESCRIPTION:Rua fins al Centre Cívic "Evaristo de la Torre".
 
Espectacle d'animació infantil "Visca la Festa" amb "Ai Carai".
 
Xocolatada i Coca.
URI:https://www.elpont.cat/actualitat/agenda/carnestoltes-2018-arribada-de-la-reina-del-carnestoltes.html
CLASS:PUBLIC
END:VEVENT
END:VCALENDAR
