BEGIN:VCALENDAR
VERSION:2.0
CALSCALE:GREGORIAN
PRODID:-//Diputació de Barcelona//DibaCMS//EN
BEGIN:VEVENT
UID:2653
DTSTAMP:20260423T031957
DTSTART:20180210T000000
DTEND:20180210T000000
SUMMARY:TALLER DE CARNESTOLTES
LOCATION:
METHOD:PUBLISH
X-WR-CALNAME:info.pont@elpont.cat
X-WR-TIMEZONE:Europe/Madrid
DESCRIPTION:Taller adreçat a nens i nenes a partir de 6 anys
URI:https://www.elpont.cat/actualitat/agenda/2653-taller-de-carnestoltes.html
CLASS:PUBLIC
END:VEVENT
END:VCALENDAR
