BEGIN:VCALENDAR
VERSION:2.0
CALSCALE:GREGORIAN
PRODID:-//Diputació de Barcelona//DibaCMS//EN
BEGIN:VEVENT
UID:2655
DTSTAMP:20260423T035647
DTSTART:20180211T000000
DTEND:20180211T000000
SUMMARY:SUSPÈS PER LES POQUES INSCRIPCIONS REBUDES EL II TRAIL ESCOLAR EL PONT DE VILOMARA I ROCAFORT
LOCATION:
METHOD:PUBLISH
X-WR-CALNAME:info.pont@elpont.cat
X-WR-TIMEZONE:Europe/Madrid
DESCRIPTION:Ateses les poques inscripcions que s'han rebut per participar en aquest acte s'ha decidit cancel·lar-lo.
 
Disculpeu les molèsties.
URI:https://www.elpont.cat/actualitat/agenda/suspes-per-les-poques-inscripcions-rebudes-el-ii-trail-escolar-el-pont-de-vilomara-i-rocafort.html
CLASS:PUBLIC
END:VEVENT
END:VCALENDAR
