BEGIN:VCALENDAR
VERSION:2.0
CALSCALE:GREGORIAN
PRODID:-//Diputació de Barcelona//DibaCMS//EN
BEGIN:VEVENT
UID:2656
DTSTAMP:20260422T213610
DTSTART:20180214T000000
DTEND:20180214T000000
SUMMARY:TALLER DE COSMÈTICA NATURAL
LOCATION:
METHOD:PUBLISH
X-WR-CALNAME:info.pont@elpont.cat
X-WR-TIMEZONE:Europe/Madrid
DESCRIPTION:Taller adreçat al public jove i adult on aprendrem a elaborar diferents productes de cosmètica orgànica amb ingredients naturals i que estan a l'abast de tothom.
 
Taller a càrrec d'Íngrid Torreguitart (Santulana Natural).
URI:https://www.elpont.cat/actualitat/agenda/taller-de-cosmetica-natural.html
CLASS:PUBLIC
END:VEVENT
END:VCALENDAR
