BEGIN:VCALENDAR
VERSION:2.0
CALSCALE:GREGORIAN
PRODID:-//Diputació de Barcelona//DibaCMS//EN
BEGIN:VEVENT
UID:2657
DTSTAMP:20260422T201104
DTSTART:20180214T000000
DTEND:20180214T000000
SUMMARY:CARNESTOLTES 2018 - ENTERRAMENT DE LA SARDINA
LOCATION:
METHOD:PUBLISH
X-WR-CALNAME:info.pont@elpont.cat
X-WR-TIMEZONE:Europe/Madrid
DESCRIPTION:Acabem la celebració del Carnestoltes i rebem la quaresma enterrant la sardina.
 
La sardina ha estat elaborada pels infants que assisteixen al Casal d'Infància "El Molí".
 
Desgustació gratuïta de sardines per a totes les persones assistents (amb tiquet).
 
Veniu vestits de negre i amb espelmes.
URI:https://www.elpont.cat/actualitat/agenda/carnestoltes-2018-enterrament-de-la-sardina.html
CLASS:PUBLIC
END:VEVENT
END:VCALENDAR
