BEGIN:VCALENDAR
VERSION:2.0
CALSCALE:GREGORIAN
PRODID:-//Diputació de Barcelona//DibaCMS//EN
BEGIN:VEVENT
UID:2658
DTSTAMP:20260422T173503
DTSTART:20180215T000000
DTEND:20180401T000000
SUMMARY:LLIURAMENT D'ORIGINALS PER AL &quot;XXI PREMI DE POESIA SRA. JOSEFINA OLIVERAS (VÍDUA DE GUAÑABENS)&quot;
LOCATION:
METHOD:PUBLISH
X-WR-CALNAME:info.pont@elpont.cat
X-WR-TIMEZONE:Europe/Madrid
DESCRIPTION:Període oficial per presentar els originals que prendran part d'aquesta vint-i-unena edició del concurs de poesia de Rocafort de Bages.
URI:https://www.elpont.cat/actualitat/agenda/lliurament-doriginals-per-al-andquotxxi-premi-de-poesia-sra-josefina-oliveras-vidua-de-guanabensandquot.html
CLASS:PUBLIC
END:VEVENT
END:VCALENDAR
