BEGIN:VCALENDAR
VERSION:2.0
CALSCALE:GREGORIAN
PRODID:-//Diputació de Barcelona//DibaCMS//EN
BEGIN:VEVENT
UID:2659
DTSTAMP:20260422T224959
DTSTART:20180217T000000
DTEND:20180217T000000
SUMMARY:L'HORA DEL CONTE EN ANGLÈS &quot;UNDER THE SEA&quot;
LOCATION:
METHOD:PUBLISH
X-WR-CALNAME:info.pont@elpont.cat
X-WR-TIMEZONE:Europe/Madrid
DESCRIPTION:Vine a viure l'aventura d'un nen que troba una moneda antiga procedent d'un vaixell pirata enfonsat i decideix anar a la recerca de la resta del tresor.
 
T'ho explicarem tot en anglès, ja veuràs com serà de divertit !
URI:https://www.elpont.cat/actualitat/agenda/lhora-del-conte-en-angles-andquotunder-the-seaandquot.html
CLASS:PUBLIC
END:VEVENT
END:VCALENDAR
