BEGIN:VCALENDAR
VERSION:2.0
CALSCALE:GREGORIAN
PRODID:-//Diputació de Barcelona//DibaCMS//EN
BEGIN:VEVENT
UID:2660
DTSTAMP:20260423T012940
DTSTART:20180228T000000
DTEND:20180327T000000
SUMMARY:TERMINI DE PRESENTACIÓ DE SOL·LICITUDS DE SUBVENCIONS A ENTITATS MUNICIPALS 2018
LOCATION:
METHOD:PUBLISH
X-WR-CALNAME:info.pont@elpont.cat
X-WR-TIMEZONE:Europe/Madrid
DESCRIPTION:
URI:https://www.elpont.cat/actualitat/agenda/termini-de-presentacio-de-sollicituds-de-subvencions-a-entitats-municipals-2018.html
CLASS:PUBLIC
END:VEVENT
END:VCALENDAR
