BEGIN:VCALENDAR
VERSION:2.0
CALSCALE:GREGORIAN
PRODID:-//Diputació de Barcelona//DibaCMS//EN
BEGIN:VEVENT
UID:2661
DTSTAMP:20260423T012635
DTSTART:20180228T000000
DTEND:20180228T000000
SUMMARY:TERTÚLIA LITERÀRIA SOBRE EL LLIBRE &quot;UNA LECTORA POC CORRENT&quot; D'ALAN BENNETT
LOCATION:
METHOD:PUBLISH
X-WR-CALNAME:info.pont@elpont.cat
X-WR-TIMEZONE:Europe/Madrid
DESCRIPTION:
URI:https://www.elpont.cat/actualitat/agenda/tertulia-literaria-sobre-el-llibre-andquotuna-lectora-poc-correntandquot-dalan-bennett.html
CLASS:PUBLIC
END:VEVENT
END:VCALENDAR
