BEGIN:VCALENDAR
VERSION:2.0
CALSCALE:GREGORIAN
PRODID:-//Diputació de Barcelona//DibaCMS//EN
BEGIN:VEVENT
UID:2663
DTSTAMP:20260422T134749
DTSTART:20180301T000000
DTEND:20180309T000000
SUMMARY:INSCRIPCIONS AL CASAL DE SETMANA SANTA &quot;3, 2, 1 ... AAAAACCIÓ!&quot;
LOCATION:
METHOD:PUBLISH
X-WR-CALNAME:info.pont@elpont.cat
X-WR-TIMEZONE:Europe/Madrid
DESCRIPTION:
URI:https://www.elpont.cat/actualitat/agenda/inscripcions-al-casal-de-setmana-santa-andquot3-2-1--aaaaaccioandquot.html
CLASS:PUBLIC
END:VEVENT
END:VCALENDAR
