BEGIN:VCALENDAR
VERSION:2.0
CALSCALE:GREGORIAN
PRODID:-//Diputació de Barcelona//DibaCMS//EN
BEGIN:VEVENT
UID:2664
DTSTAMP:20260422T134825
DTSTART:20180303T000000
DTEND:20180331T000000
SUMMARY:DIA INTERNACIONAL DE LA DONA TREBALLADORA - EXPOSICIÓ DE PINTURA &quot;EN FEMENÍ&quot;
LOCATION:
METHOD:PUBLISH
X-WR-CALNAME:info.pont@elpont.cat
X-WR-TIMEZONE:Europe/Madrid
DESCRIPTION:A càrrec de pintores i pintors locals.
 
Inauguració el dissabte 3 de març a les 12 del migdia.
URI:https://www.elpont.cat/actualitat/agenda/dia-internacional-de-la-dona-treballadora-exposicio-de-pintura-andquoten-femeniandquot.html
CLASS:PUBLIC
END:VEVENT
END:VCALENDAR
