BEGIN:VCALENDAR
VERSION:2.0
CALSCALE:GREGORIAN
PRODID:-//Diputació de Barcelona//DibaCMS//EN
BEGIN:VEVENT
UID:2665
DTSTAMP:20260424T132933
DTSTART:20180307T000000
DTEND:20180307T000000
SUMMARY:DIA INTERNACIONAL DE LA DONA TREBALLADORA - TALLER &quot;COM ENS AFECTEN ELS ROLS DE GÈNERE EN LA NOSTRA VIDA QUOTIDIANA
LOCATION:
METHOD:PUBLISH
X-WR-CALNAME:info.pont@elpont.cat
X-WR-TIMEZONE:Europe/Madrid
DESCRIPTION:Taller de dinàmiques de rol-playing: representarem diferents situacions i debatrem i reflexionarem sobre com ens comportem, sentim,... si som nois o si som noies.
 
Taller per a infants a partir de 10 anys i les seves famílies
URI:https://www.elpont.cat/actualitat/agenda/dia-internacional-de-la-dona-treballadora-taller-andquotcom-ens-afecten-els-rols-de-genere-en-la-nostra-vida-quotidiana.html
CLASS:PUBLIC
END:VEVENT
END:VCALENDAR
