BEGIN:VCALENDAR
VERSION:2.0
CALSCALE:GREGORIAN
PRODID:-//Diputació de Barcelona//DibaCMS//EN
BEGIN:VEVENT
UID:2666
DTSTAMP:20260422T134300
DTSTART:20180308T000000
DTEND:20180308T000000
SUMMARY:DIA INTERNACIONAL DE LA DONA TREBALLADORA - XERRADA &quot;SIGUES TU, PROJECTA LA TEVA MILLOR IMATGE&quot;
LOCATION:
METHOD:PUBLISH
X-WR-CALNAME:info.pont@elpont.cat
X-WR-TIMEZONE:Europe/Madrid
DESCRIPTION:Coneix el teu cos i realça les teves virtuts d'acord amb la teva manera de ser.
 
Xerrada per acceptar-nos i realçar les nostres virtuts, cal saber quina és la nostra tipologia i què fer per potenciar-la, amb trucs i consells.
URI:https://www.elpont.cat/actualitat/agenda/dia-internacional-de-la-dona-treballadora-xerrada-andquotsigues-tu-projecta-la-teva-millor-imatgeandquot.html
CLASS:PUBLIC
END:VEVENT
END:VCALENDAR
