BEGIN:VCALENDAR
VERSION:2.0
CALSCALE:GREGORIAN
PRODID:-//Diputació de Barcelona//DibaCMS//EN
BEGIN:VEVENT
UID:2667
DTSTAMP:20260422T123252
DTSTART:20180308T000000
DTEND:20180308T000000
SUMMARY:DIA INTERNACIONAL DE LA DONA TREBALLADORA - CONCENTRACIÓ DE DONES I HOMES
LOCATION:
METHOD:PUBLISH
X-WR-CALNAME:info.pont@elpont.cat
X-WR-TIMEZONE:Europe/Madrid
DESCRIPTION:Per denunciar la desigualtat, la precarietat i la violència vers les dones ....
 
Concentració d deones i homes i lesctura de manifest.
URI:https://www.elpont.cat/actualitat/agenda/dia-internacional-de-la-dona-treballadora-concentracio-de-dones-i-homes.html
CLASS:PUBLIC
END:VEVENT
END:VCALENDAR
