BEGIN:VCALENDAR
VERSION:2.0
CALSCALE:GREGORIAN
PRODID:-//Diputació de Barcelona//DibaCMS//EN
BEGIN:VEVENT
UID:2668
DTSTAMP:20260422T135008
DTSTART:20180309T000000
DTEND:20180318T000000
SUMMARY:FESTA DEL CONTRIBUENT 2018 - EXPOSICIÓ DE MAQUETES ELABORADES AMB PEDRA SECA I MORTER D'ANTONIO TENLLADO
LOCATION:
METHOD:PUBLISH
X-WR-CALNAME:info.pont@elpont.cat
X-WR-TIMEZONE:Europe/Madrid
DESCRIPTION:Inauguració divendres 9 de març a les 5 de la tarda.
URI:https://www.elpont.cat/actualitat/agenda/festa-del-contribuent-2018-exposicio-de-maquetes-elaborades-amb-pedra-seca-i-morter-dantonio-tenllado.html
CLASS:PUBLIC
END:VEVENT
END:VCALENDAR
