BEGIN:VCALENDAR
VERSION:2.0
CALSCALE:GREGORIAN
PRODID:-//Diputació de Barcelona//DibaCMS//EN
BEGIN:VEVENT
UID:2670
DTSTAMP:20260422T134127
DTSTART:20180310T000000
DTEND:20180310T000000
SUMMARY:FESTA DEL CONTRIBUENT 2018 - TORNEIG DE PETANCA C.P. VILOMARA
LOCATION:
METHOD:PUBLISH
X-WR-CALNAME:info.pont@elpont.cat
X-WR-TIMEZONE:Europe/Madrid
DESCRIPTION:Obert a jugadors, socis i simpatitzants locals
URI:https://www.elpont.cat/actualitat/agenda/festa-del-contribuent-2018-torneig-de-petanca-cp-vilomara.html
CLASS:PUBLIC
END:VEVENT
END:VCALENDAR
